BEGIN:VCALENDAR
VERSION:2.0
PRODID:< http://www.open2c.de/ >
METHOD:PUBLISH
X-PUBLISHED-TTL:PT12H
BEGIN:VEVENT
CREATED:20260419T085202Z
LAST-MODIFIED:20260419T090147Z
ORGANIZER;CN="Bienenzucht & Obstbauverein Enzelhausen"
DTSTAMP:20260420T004534Z
DTSTART;VALUE=DATE:20260420
CATEGORIES:öffentliche Veranstaltung
SUMMARY:Imkerkurs und Honigkurs
DESCRIPTION:Imkerkurs und Honigkurs Terminübersicht für Interessenten 4. 
	Mai Imkerkurs in Grünberg Feuerwehrhaus. 8. Mai Imkerversammlung in Notze
	nhausen Gasthaus Kreitmair 19.00 Uhr 23. Mai Imkerkurs/Honigkurs in Grünb
	erg 21 bei Herrn Thomas Scharlach um 15.00 Uhr - Modul 5 - praktische Arbe
	iten der Honigernte und Pflege. Anmeldung bei dengler-attenhofen@t-online.
	de. Die Kursteilnahme ist kostenfrei. Wir freuen uns auf zahlreiche Intere
	ssenten.   Organisator Bienenzucht & Obstbauverein Enzelhausen
LOCATION:Feuerwehrhaus Grünberg
UID:10cf2981cf015422b35f94d52ac0b60d@011ea7715d8894e3c015d7679d54b8eb
END:VEVENT
END:VCALENDAR