BEGIN:VCALENDAR
VERSION:2.0
PRODID:< http://www.open2c.de/ >
METHOD:PUBLISH
X-PUBLISHED-TTL:PT12H
BEGIN:VEVENT
CREATED:20260121T114250Z
LAST-MODIFIED:20260121T115529Z
ORGANIZER;CN="MSC Nandlstadt e.V. und MSF Freising ´73 e.V. im ADAC":MAILTO:info@rallye-suedliche-holledau.de
DTSTAMP:20260424T153134Z
DTSTART:20260613T090000Z
DTEND:20260613T160000Z
CATEGORIES:öffentliche Veranstaltung
URL:https://www.rallye-suedliche-holledau.de/
SUMMARY:4. ADAC Rallye „Südliche Holledau“
DESCRIPTION:Die 4. ADAC Rallye „Südliche Holledau“ führt auch über G
	emeindestraßen in Rudelzhausen. Während der Wertungsläufe kann es zu te
	mporären Straßensperrungen kommen. Der ungehinderte Durchgang für Ernte
	fahrzeuge ist gewährleistet. Die Gemeinde Rudelzhausen hat ihre Zustimmun
	g zur Durchführung erteilt\; die offizielle Genehmigung erfolgt durch das 
	Landratsamt Freising. Bürger werden gebeten\, am Veranstaltungstag auf Ver
	kehrseinschränkungen zu achten und die Sicherheitshinweise zu beachten. O
	rganisator MSC Nandlstadt e.V. und MSF Freising ´73 e.V. im ADAC Kontakt 
	info@rallye-suedliche-holledau.de
LOCATION:u.a. Gemeindestraßen Rudelzhausen\, Fahrerlager in Nandlstadt
UID:2a64d0c697c97809015c7903d28e4c02@011ea7715d8894e3c015d7679d54b8eb
END:VEVENT
END:VCALENDAR