BEGIN:VCALENDAR
VERSION:2.0
PRODID:< http://www.open2c.de/ >
METHOD:PUBLISH
X-PUBLISHED-TTL:PT12H
BEGIN:VEVENT
CREATED:20251018T095159Z
LAST-MODIFIED:20251018T100029Z
ORGANIZER;CN="Bienenzucht und Obstbauverein Enzelhausen"
DTSTAMP:20260421T140949Z
DTSTART;VALUE=DATE:20260421
CATEGORIES:öffentliche Veranstaltung
SUMMARY:Herbstversammlung des Bienenzucht und Obstbauvereines Enzelhausen
DESCRIPTION:Einladung zur Herbstversammlung des Bienenzucht und Obstbauvere
	ines Enzelhausen im Gasthaus Kreitmair in Notzenhausen mit kostenfreien Vo
	rtrag von Herrn Armin Müller von der Kreisfachberatung Landshut über das
	 Thema: "Der Garten - das Wohnzimmer im Freien". Herr Müller referiert ü
	ber die Planung einer Neuanlage\, bzw. Umgestaltung des Hausgartens um eine
	 ansprechende Lösung\, für eine gelungene Gartengestaltung\, zu ermöglich
	en. Alle Mitglieder\, Nichtmitglieder\, Gäste\, Freunde und Interessierte si
	nd herzlich eingeladen. Wir freuen uns auf zahlreiche Besucher. Die Vorsta
	ndschaft.         Organisator Bienenzucht und Obstbauverein Enzelhause
	n
LOCATION:Gasthaus Kreitmair in Notzenhausen
UID:0eb0a6503c04ff196003f76ebbaf6f12@011ea7715d8894e3c015d7679d54b8eb
END:VEVENT
END:VCALENDAR