BEGIN:VCALENDAR
VERSION:1.0
PRODID:Open2CKalenderExportV11
BEGIN:VEVENT
DTSTAMP:20260419T090147Z
DTSTART:20260504T160000Z
DTEND:20260504T160000Z
CATEGORIES:öffentliche Veranstaltung
SUMMARY:Imkerkurs und Honigkurs
DESCRIPTION:Imkerkurs und Honigkurs Terminübersicht für Interessenten | 4. Mai Imkerkurs in Grünberg Feuerwehrhaus. | 8. Mai Imkerversammlung in Notzenhausen Gasthaus Kreitmair 19.00 Uhr | 23. Mai Imkerkurs/Honigkurs in Grünberg 21 bei Herrn Thomas Scharlach um 15.00 Uhr - Modul 5 - praktische Arbeiten der Honigernte und Pflege. | Anmeldung bei dengler-attenhofen@t-online.de. Die Kursteilnahme ist kostenfrei. Wir freuen uns auf zahlreiche Interessenten. |   | Organisator   Bienenzucht & Obstbauverein Enzelhausen
LOCATION:Feuerwehrhaus Grünberg
UID:e15e5563ad9e78a825fb94fc27860b1a-c574964cc12d8815879d630e2bea95c5
PRIORITY:3
END:VEVENT
END:VCALENDAR
