BEGIN:VCALENDAR
VERSION:1.0
PRODID:Open2CKalenderExportV11
BEGIN:VEVENT
DTSTAMP:20251018T100029Z
DTSTART:20251109T130000Z
DTEND:20251109T130000Z
CATEGORIES:öffentliche Veranstaltung
SUMMARY:Herbstversammlung des Bienenzucht und Obstbauvereines Enzelhausen
DESCRIPTION:Einladung zur Herbstversammlung des Bienenzucht und Obstbauvereines Enzelhausen im Gasthaus Kreitmair in Notzenhausen mit kostenfreien Vortrag von Herrn Armin Müller von der Kreisfachberatung Landshut über das Thema: | "Der Garten - das Wohnzimmer im Freien". Herr Müller referiert über die Planung einer Neuanlage, bzw. Umgestaltung des Hausgartens um eine ansprechende Lösung, für eine gelungene Gartengestaltung, zu ermöglichen. | Alle Mitglieder, Nichtmitglieder, Gäste, Freunde und Interessierte sind herzlich eingeladen. Wir freuen uns auf zahlreiche Besucher. Die Vorstandschaft. |   |   |   |   | Organisator   Bienenzucht und Obstbauverein Enzelhausen
LOCATION:Gasthaus Kreitmair in Notzenhausen
UID:cadef379afe3cf0757c4776a755b01a5-c3b6606639d3683fd363515b0ad406e4
PRIORITY:3
END:VEVENT
END:VCALENDAR
